BEGIN:VCALENDAR
PRODID:NingEventWidget-v1
VERSION:2.0
METHOD:PUBLISH
BEGIN:VEVENT
UID:1171189:Event:101469
DTSTAMP:20260422T001010Z
SUMMARY:Thursday Family Nights at Lorber Family Playground, Jackson Sq
 ., Southwest Corridor Park
DESCRIPTION:Great activities for families and children, plus enjoy the
  new zipline, walholla climbing structure and other great playground f
 eatures. Please spread the word and join friends & neighbors to try ou
 t this new playground.\nEvery Thursday in August, 4pm to 6pm.\nAugust 
 8th, 4pm - 6pmFranklin Park Mobile Zoo Presentation. This is a great o
 pportunity for to see the natural behaviors of animals found on exhibi
 t throughout the zoo.\nAugust 15th, 4pm - 6pm Rock Your Life Girls Me
 ntoring and Coaching. Girls will showcase leadership activities and ga
 mes with youth. In addition, classic board games will be available for
  all gamers.\nAugust 22nd, 4pm - 6pm DCR’s Trailside Museum or anot
 her presentation of Rock Your Life Girls Mentoring and Coaching. Girls
  will showcase activities and games with youth.\nAugust 29th, 4pm - 6
 pmBoston Museum of Science Mobile presentation of magic and animals in
  the park.\nALSO: Zumba | Arts and Crafts | Other Activities Each Week
 \n\nFor more information visit http://neighborsforneighbors.org/events
 /thursday-family-nights-at-lorber-family-playground-jackson-sq
DTSTART:20130808T200000Z
DTEND:20130829T200000Z
CATEGORIES:free, family, activities
LOCATION:Lorber Family Playground, Jackson Square, Southwest Corridor 
 Park
WEBSITE:
URL:
CONTACT:
ORGANIZER:Massachusetts Dept of Conservation and Recreation
ATTACH;FMTTYPE="image/jpeg":http://storage.ning.com/topology/rest/1.0/
 file/get/2245140720?profile=original
ATTENDEE;ROLE=REQ-PARTICIPANT;PARTSTAT=ACCEPTED;RSVP=TRUE;CN="Jennifer
  Leonard":http://neighborsforneighbors.org/profile/JenniferLeonard639
END:VEVENT
END:VCALENDAR
