BEGIN:VCALENDAR
PRODID:NingEventWidget-v1
VERSION:2.0
METHOD:PUBLISH
BEGIN:VEVENT
UID:1171189:Event:76146
DTSTAMP:20260421T182649Z
SUMMARY:Tito Puente Music Series Concert in Mozart Park!
DESCRIPTION:Join Hyde Square Task Force (www.hydesquare.org) as we hos
 t the first of the Berklee College of Music Tito Puente Latin Music Se
 ries concert of the summer in Mozart Park (corner of Mozart Street and
  Centre Street).\nTHURSDAY, June 30 at 7 p.m.\nFREE! Bring the family,
  bring the kids!\n\nFor more information visit http://neighborsforneig
 hbors.org/events/tito-puente-music-series
DTSTART:20110630T230000Z
DTEND:20110701T010000Z
CATEGORIES:free, concert
LOCATION:Mozart Park - corner of Mozart and Centre Streets
WEBSITE:
URL:
CONTACT:
ORGANIZER:Hyde Square Task Force
ATTACH;FMTTYPE="image/jpeg":http://storage.ning.com/topology/rest/1.0/
 file/get/2245135735?profile=original
ATTENDEE;ROLE=REQ-PARTICIPANT;PARTSTAT=ACCEPTED;RSVP=TRUE;CN=Karen:htt
 p://neighborsforneighbors.org/profile/Karen
END:VEVENT
END:VCALENDAR
