BEGIN:VCALENDAR
PRODID:NingEventWidget-v1
VERSION:2.0
METHOD:PUBLISH
BEGIN:VEVENT
UID:1171189:Event:97137
DTSTAMP:20260421T185841Z
SUMMARY:TOMORROW: Mayor Menino's JP COFFEE HOUR!
DESCRIPTION:To my JP leaders and neighbors::\nJust a friendly - and fu
 ll of excitement - reminder that TOMORROW from 9:30-10:30am Mayor Meni
 no will have his Jamaica Plain Neighborhood Coffee Hour at Brewer Burr
 oughs Park, the playground between Burroughs & Eliot St. This is a fr
 ee event and open to all residents to come out and meet the Mayor for
  coffee and receive a free plant from the Mayor! I am encouraging all
  neighbors to remind their school groups, seniors and church groups to
  come out for what should be a fun morning meet and greet. This is a g
 reat opportunity for a one-on-one with the Mayor in our very own JP ne
 ighborhood. I wanted to be sure to invite you each personally, plea
 se do stop by, it would be great to see you there tomorrow morning. At
 tached you will find the flyer to send out to your elists, on Facebook
 /Twitter, remember to invite your next door neighbor, families with ch
 ildren, and the seniors on your street!\n \nMayor Menino’s 15th Ann
 ual Neighborhood Coffee Hour\nWednesday, May 8th\n9:30-10:30 AM\nJamai
 ca Plain: Brewer Burroughs Park\n(2 Brewer St., playground between Bur
 roughs St. & Eliot St.)\n\nFor more information visit http://neighbors
 forneighbors.org/events/tomorrow-mayor-menino-s-jp-coffee-hour
DTSTART:20130508T133000Z
DTEND:20130508T143000Z
CATEGORIES:meet, "&", greet, with, the, "mayor!"
LOCATION:Brewer Burroughs Park (playground between Burroughs & Eliot S
 t.)
WEBSITE:
URL:
CONTACT:
ORGANIZER;CN="Jullieanne Doherty":http://neighborsforneighbors.org/pro
 file/JullieanneDoherty
ATTACH;FMTTYPE="image/jpeg":http://storage.ning.com/topology/rest/1.0/
 file/get/2245140956?profile=original
ATTENDEE;ROLE=REQ-PARTICIPANT;PARTSTAT=ACCEPTED;RSVP=TRUE;CN="Julliean
 ne Doherty":http://neighborsforneighbors.org/profile/JullieanneDoherty
END:VEVENT
END:VCALENDAR
