BEGIN:VCALENDAR
PRODID:NingEventWidget-v1
VERSION:2.0
METHOD:PUBLISH
BEGIN:VEVENT
UID:1171189:Event:37528
DTSTAMP:20260421T181959Z
SUMMARY:Tomorrow night! New dance night....new space! come out and dan
 ce your asses off!!!!! go JP!
DESCRIPTION:So there is a new performance space on the third floor abo
 ve \"City Feed\" on Centre in the heart of J.P.\n\nThe whole thing is 
 a dream come true for all of us and I'm very excited about \"The Templ
 es\" future potential as I'll have a hand in the\nGallery, (and possib
 ly performance), programing.\nWould be great to sea and shake some boo
 ty wit ya Sat nite if you can make it out. If not, rest assured, much 
 more is in the works....\n\nJust pinch me....\n\nThe roster......\nREN
 E (stellar live drums to psychedelic dance beats)\nMIND YETI (improvdr
 onepsych)\nDUCK THAT (quack)\nZUN ZUN EQUI (drivin' the funky shuttle 
 to outer space and back)\nDEBO BAND (headliner)\n\n@ The Temple\nDoors
  7pm\nGettin' Down 8pm\nALL AGES\n$10\n\nFor more information visit ht
 tp://neighborsforneighbors.org/events/tomorrow-night-new-dance
DTSTART:20100314T000000Z
DTEND:20100314T040000Z
CATEGORIES:dance, "night!"
LOCATION:above city feed - centre st/seaverns
WEBSITE:
URL:
CONTACT:
ORGANIZER;CN="rebecca birnholz":http://neighborsforneighbors.org/profi
 le/rebeccabirnholz
ATTACH;FMTTYPE="image/jpeg":
ATTENDEE;ROLE=REQ-PARTICIPANT;PARTSTAT=ACCEPTED;RSVP=TRUE;CN="rebecca 
 birnholz":http://neighborsforneighbors.org/profile/rebeccabirnholz
END:VEVENT
END:VCALENDAR
