BEGIN:VCALENDAR
PRODID:NingEventWidget-v1
VERSION:2.0
METHOD:PUBLISH
BEGIN:VEVENT
UID:1171189:Event:76389
DTSTAMP:20260421T204644Z
SUMMARY:Tour de France Party Night
DESCRIPTION:Jeanie Johnston Pub is Tour de France 2011 headquarters! E
 very night through July 24 you can watch the Tour there, from 8-11pm. 
 Tonight, July 22nd, riders ascend L'Alpe d'Huez!\nFeaturing:\n+ Trivia
  contests for seasoned Tour fans\n+ \"Tour de France 101\" - how to wa
 tch the Tour, the teams, the strategy\n+ Raffles, Jeanie Johnston Pub 
 food & beverage, and FUN!\nFor more information, call Ferris Wheels Bi
 ke Shop at 617-524-BIKE.\n\nFor more information visit http://neighbor
 sforneighbors.org/events/tour-de-france-party-night-2
DTSTART:20110723T000000Z
DTEND:20110723T030000Z
CATEGORIES:party, sports, "pub night"
LOCATION:Jeanie Johnston Pub
WEBSITE:http://www.ferriswheelsbikeshop.com
URL:http://www.ferriswheelsbikeshop.com
CONTACT:617-524-2453
ORGANIZER:Ferris Wheels Bike Shop and Jeanie Johnston Pub
ATTACH;FMTTYPE="image/jpeg":http://storage.ning.com/topology/rest/1.0/
 file/get/2104696551?profile=original
ATTENDEE;ROLE=REQ-PARTICIPANT;PARTSTAT=ACCEPTED;RSVP=TRUE;CN="Ferris W
 heels Bike Shop":http://neighborsforneighbors.org/profile/FerrisWheels
 BikeShop
END:VEVENT
END:VCALENDAR
