BEGIN:VCALENDAR
PRODID:NingEventWidget-v1
VERSION:2.0
METHOD:PUBLISH
BEGIN:VEVENT
UID:1171189:Event:34758
DTSTAMP:20260421T171650Z
SUMMARY:TranScriptions: featuring Good Asian Drivers
DESCRIPTION:Transcriptions is a queer-themed open mic, held on the sec
 ond Thursday of each month. Featuring poets, writers, musicians, perfo
 rmers, activists, and YOUR creative expression of all kinds, Transcrip
 tions is a welcoming space that is always ally-friendly.\n\nJoin us fo
 r our one-year Valentine's anniversary special, with the return of Cup
 id's candygrams! Don't forget to bring some extra cash with you to buy
  some goodies - the Dyke March Committee is baking for us again this m
 onth (and we've heard there may be heart-shaped cupcakes).\n\nOur anni
 versary feature is: Good Asian Drivers!\n\nThe Good Asian Drivers, a p
 erformance powerhouse nationally-renowned as one of the most electrify
 ing artists of their generation, recently completed their second natio
 nal tour including appearances on the San Francisco Pride Mainstage, T
 oronto Pride, Phasefest, and the Decibelle Music Festival. Their newly
  released debut album, \"Drive Away Home\" has been receiving non-stop
  media attention including an Editor's Pick in the latest issue of Cur
 ve Magazine.\n\n$5-10 sliding scale // all ages\n\nFor more informatio
 n visit http://neighborsforneighbors.org/events/transcriptions-featuri
 ng-good
DTSTART:20100212T001500Z
DTEND:20100212T033000Z
CATEGORIES:open, mic
LOCATION:Spontaneous Celebrations
WEBSITE:http://groups.to/transcriptions
URL:http://groups.to/transcriptions
CONTACT:
ORGANIZER:
ATTACH;FMTTYPE="image/jpeg":http://storage.ning.com/topology/rest/1.0/
 file/get/2245126562?profile=original
ATTENDEE;ROLE=REQ-PARTICIPANT;PARTSTAT=ACCEPTED;RSVP=TRUE;CN="Eli Latt
 o":http://neighborsforneighbors.org/profile/EliLatto
END:VEVENT
END:VCALENDAR
