BEGIN:VCALENDAR
PRODID:NingEventWidget-v1
VERSION:2.0
METHOD:PUBLISH
BEGIN:VEVENT
UID:1171189:Event:40066
DTSTAMP:20260421T171554Z
SUMMARY:TranScriptions open mic: featuring Arden Eli Hill
DESCRIPTION:Arden Eli Hill recently placed second in the Inglis House 
 Disability Poetry contest. Ze holds a MFA in Creative Writing from Hol
 lins University and is currently a poetry editor for Breath and Shadow
 , an online journal of disability culture and literature. In 2008, Ard
 en was a poetry fellow at the Lambda Literary Retreat for Emerging Wri
 ters. Hir work has been published or accepted by Women’s Work Anthol
 ogy, Kalidiscope, Cripping Femme, Ghoti Magazine, Transgender Tapestry
 , The Windy City Times Pride Literary Supplement, The Inglis House Poe
 try Chapbook, Wordgathering, the Lambda Literary award winning antholo
 gy First Person Queer and its sequel, Second Person Queer, and more. A
 rden also writes erotica under the alias “Arden Hill.”\n\n\n$5-10 
 sliding scale, all ages.\n\nSpontaneous Celebrations is now wheelchair
  accessible! The event is on the first floor. For details, contact Ed,
  facilities manager of Spontaneous.\n\nTranScriptions is for queer and
  trans folks -- and for YOU. Always ally-friendly!\n\nFollow us on Twi
 tter: @transopenmic\n\nFor more information visit http://neighborsforn
 eighbors.org/events/transcriptions-open-mic
DTSTART:20100408T233000Z
DTEND:20100409T023000Z
CATEGORIES:open, mic
LOCATION:Spontaneous Celebrations
WEBSITE:http://groups.to/transcriptions
URL:http://groups.to/transcriptions
CONTACT:617-524-6373
ORGANIZER;CN="Eli Latto":http://neighborsforneighbors.org/profile/EliL
 atto
ATTACH;FMTTYPE="image/jpeg":http://storage.ning.com/topology/rest/1.0/
 file/get/2245127118?profile=original
ATTENDEE;ROLE=REQ-PARTICIPANT;PARTSTAT=ACCEPTED;RSVP=TRUE;CN="Eli Latt
 o":http://neighborsforneighbors.org/profile/EliLatto
END:VEVENT
END:VCALENDAR
