BEGIN:VCALENDAR
PRODID:NingEventWidget-v1
VERSION:2.0
METHOD:PUBLISH
BEGIN:VEVENT
UID:1171189:Event:79655
DTSTAMP:20260421T203945Z
SUMMARY:Transportation for Seniors in JP
DESCRIPTION:The JP/Egleston Elder Care Network presents:Aging Well in 
 Jamaica Plain\n \nAre you a Senior in Jamaica Plain lookingfor Transp
 ortation? Join us to learn about local Transportation Options for Olde
 r Adults.\n \nRepresentatives from the following services will be pre
 senting and will be available to answer questions and provide assistan
 ce with applications:\nMBTA RideMBTA Senior T- PassesCommission on Aff
 airs of the Elderly Taxi CouponsSenior ShuttleMart MetroITN and more!\
 n \nSpanish Interpretation and light refreshments will be provided.\n
 \nFor more information visit http://neighborsforneighbors.org/events/t
 ransportation-for-seniors-in-jp
DTSTART:20110922T180000Z
DTEND:20110922T200000Z
CATEGORIES:forum
LOCATION:Brookside Community Health Center
WEBSITE:
URL:
CONTACT:617-983-7907
ORGANIZER:Stacey Miller
ATTACH;FMTTYPE="image/jpeg":
ATTENDEE;ROLE=REQ-PARTICIPANT;PARTSTAT=ACCEPTED;RSVP=TRUE;CN=Alison:ht
 tp://neighborsforneighbors.org/profile/Alison
END:VEVENT
END:VCALENDAR
