BEGIN:VCALENDAR
PRODID:NingEventWidget-v1
VERSION:2.0
METHOD:PUBLISH
BEGIN:VEVENT
UID:1171189:Event:104428
DTSTAMP:20260421T204110Z
SUMMARY:Trio di Canto: Flute, Violin and Guitar   focus on current pop
 ular tunes, classical and jazz
DESCRIPTION:Trio di Canto is a Boston-based trio comprised of a flute,
  violin and guitar with a focus on current popular tunes, spiced with 
 classical and jazz.  The musicians, Liz Horwitz on flute/double bass,
  Laurie Peckins on violin and Jeremy Quick on guitar have been perform
 ing locally, both as this group and as part of other groups for severa
 l years. They will appear on Sunday, November 3, 2013, at 3:00 p.m. at
  the historic Loring-Greenough House, 12 South Street, Jamaica Plain i
 n the 14th season of the Sunday Afternoon at the ‘Greenough House Pa
 rlor Concert Series.Meet the musicians at afternoon tea following the 
 program.    The Sunday Afternoon at the ‘Greenough House series r
 ecreates the atmosphere of 18th and 19th century “musical afternoons
 ” in the 1760 Loring-Greenough House, twice monthly, October to May.
  Tickets are available at the door: donation $15 ($10 seniors, student
 s and JPTC members). Space is limited; reservations are suggested—ca
 ll 617-524-3158 or email lghouseconcerts@aim.com.Liz Horwitz: Liz Horw
 itz  grew up in Tokyo, Japan.  She started on the piano in first gra
 de and added the flute in 4th grade.  When Liz switched to the Americ
 an School in Japan, she played in the wind ensemble and the jazz band.
   She graduated as a music major from Colby College.  Liz was one of
  the founding members of Willow Flute Ensemble, and played with the gr
 oup for 14 years.  Currently, Liz is a member of Three Short Notes, a
  trio of two flutes and a cello, as well as the woodwind quintet Aerop
 honet.  Both groups perform in and around the Boston area. Liz also p
 lays the double bass in both classical and jazz groups.Jeremy Quick: P
 erforms Nationally and Internationally with a wide variety of musical 
 projects. While Jeremy enjoys playing guitar for a wide variety of ban
 ds, he also finds time to compose and tour with his original project: 
 The JQTrio. Chairman, Guitar Department, Antonelli Music Center, Andov
 er, MALaurie Peckins:   Laurie is a specialist in string instruments
 : violin, traditional fiddle, guitar, and mandolin. A  performer and 
 conductor for chamber music and popular music, she has been teaching o
 rchestra for the past 20+ years in public schools.For more information
  about Trio di Canto, visit triodicanto.com.Built in 1760, the Loring-
 Greenough House, a local landmark listed on the Massachusetts and Nati
 onal Registers of Historic Places, is located at 12 South Street (at t
 he Civil War Monument) in Jamaica Plain, MA. It is owned and managed b
 y the non-profit Jamaica Plain Tuesday Club, Inc. as a historic house 
 museum and site for art and music presentations. The Loring-Greenough 
 House is wheelchair accessible. For more information on the Loring-Gre
 enough House, see www.loring-greenough.org.For reservations or directi
 ons, call (617)524-3158, or email  lghouseconcerts@aim.com.Upcoming c
 oncerts in this series:        November 17: Mignarda American lu
 te song duo Ron Andrico & Donna Stewart An afternoon with Mignarda. Mi
 gnarda's concert program offers a snapshot of their first ten years as
  a duo with music excerpted from their award-winning recording of 17th
  century French music, Divine Amarillis (2005), a sampling from their 
 ninth and latest CD, John Dowland: A Pilgrimes Solace (April 2013), an
 d a preview of current projects including music for voice and lute com
 posed in the 21st century. \n\nFor more information visit http://neig
 hborsforneighbors.org/events/trio-di-canto-flute-violin-and-guitar-foc
 us-on-current-popular
DTSTART:20131103T200000Z
DTEND:20131103T223000Z
CATEGORIES:parlor, concert, and, tea
LOCATION:Loring-Greenough House,
WEBSITE:http://www.Loring-Greenough.org
URL:http://www.Loring-Greenough.org
CONTACT:617-524-3158
ORGANIZER;CN="Loring-Greenough House Concerts":http://neighborsforneig
 hbors.org/profile/LoringGreenoughHouseConserts
ATTACH;FMTTYPE="image/jpeg":http://storage.ning.com/topology/rest/1.0/
 file/get/2245141819?profile=original
ATTENDEE;ROLE=REQ-PARTICIPANT;PARTSTAT=ACCEPTED;RSVP=TRUE;CN="Loring-G
 reenough House Concerts":http://neighborsforneighbors.org/profile/Lori
 ngGreenoughHouseConserts
END:VEVENT
END:VCALENDAR
