BEGIN:VCALENDAR
PRODID:NingEventWidget-v1
VERSION:2.0
METHOD:PUBLISH
BEGIN:VEVENT
UID:1171189:Event:38002
DTSTAMP:20260421T214751Z
SUMMARY:Tropical Fiesta!
DESCRIPTION:Warm up and say Good Bye to Winter! This year's festival i
 s co-sponsored by La Piñata and definitely features something for eve
 ryone...\n\nAfternoon Family Celebration 12-4pm\n\nEvening Fiesta 21+ 
 7pm-1am\nDance the night away with Live Music:\n\nUPSTAIRS...\n\nOppos
 ite People, playing Afro-funk and groove\n8:30-9:15 and again from 10:
 15 until midnight\nwww.myspace.com/oppositepeoplemusic\n\nMarcus Santo
 s & Bloco Afro Brazil, Boston's Best Samba band\n9:15-10:15\n\nDOWNSTA
 IRS...\nBachata with Ariel Pa' la Calle\n\nLatin Food & Drinks all Nig
 ht!\nCost: $12 members, $15 non-members\nMembership available at the d
 oor\n\n\nReserve Your Tickets Now: tropicalfiesta2010@gmail.com\n\nFor
  more information visit http://neighborsforneighbors.org/events/tropic
 al-fiesta
DTSTART:20100320T230000Z
DTEND:20100321T050000Z
CATEGORIES:dance, party, fundraiser
LOCATION:Spontaneous Celebrations
WEBSITE:http://www.spontaneouscelebrations.org/
URL:http://www.spontaneouscelebrations.org/
CONTACT:
ORGANIZER:La Pinata
ATTACH;FMTTYPE="image/jpeg":
ATTENDEE;ROLE=REQ-PARTICIPANT;PARTSTAT=ACCEPTED;RSVP=TRUE;CN=Andrea:ht
 tp://neighborsforneighbors.org/profile/Andrea
END:VEVENT
END:VCALENDAR
