BEGIN:VCALENDAR
PRODID:NingEventWidget-v1
VERSION:2.0
METHOD:PUBLISH
BEGIN:VEVENT
UID:1171189:Event:110712
DTSTAMP:20260421T190334Z
SUMMARY:TurboKick at Mike's Fitness!
DESCRIPTION:Join me for TurboKick at Mike's Fitness in JP on Saturdays
  from 4:30-5:30PM!\nYou can pay by the class or join the gym - contact
  Mike's for additional details on per class pricing and memberships.\n
 Turbo Kick® offers an addictive cardio workout that combines shadow b
 oxing, kickboxing, sports drills and simple dance moves in a party atm
 osphere. Turbo Kick® is an interval-based class for participants of a
 ny fitness level. It combines the best of two worlds: Group Exercise a
 nd Martial Arts. No equipment needed!\n \n\nFor more information visi
 t http://neighborsforneighbors.org/events/turbokick-at-mike-s-fitness
DTSTART:20141108T213000Z
DTEND:20141109T000000Z
CATEGORIES:turbokick
LOCATION:Mike's Fitness JP
WEBSITE:http://www.mikesfitnessjp.com
URL:http://www.mikesfitnessjp.com
CONTACT:
ORGANIZER:Meghann Lawson
ATTACH;FMTTYPE="image/jpeg":
ATTENDEE;ROLE=REQ-PARTICIPANT;PARTSTAT=ACCEPTED;RSVP=TRUE;CN="Meghann 
 Martin":http://neighborsforneighbors.org/profile/MeghannMartin
END:VEVENT
END:VCALENDAR
