BEGIN:VCALENDAR
PRODID:NingEventWidget-v1
VERSION:2.0
METHOD:PUBLISH
BEGIN:VEVENT
UID:1171189:Event:93931
DTSTAMP:20260421T214630Z
SUMMARY:TurboKick
DESCRIPTION:Turbo Kick® offers an addictive cardio workout that combi
 nes shadow boxing, kickboxing, sports drills and simple dance moves in
  a party atmosphere. Turbo Kick® is an interval-based class for parti
 cipants of any fitness level. It combines the best of two worlds: Grou
 p Exercise and Martial Arts. No equipment needed. ALL LEVELS\n \nBrin
 g a water and wear your workout clothes and sneakers!\n\n$10 a class\n
 \nFor more information visit http://neighborsforneighbors.org/events/t
 urbokick
DTSTART:20130219T001500Z
DTEND:20130219T011500Z
CATEGORIES:group, fitness, class
LOCATION:Spontaneous Celebrations
WEBSITE:
URL:
CONTACT:
ORGANIZER;CN="Meghann Martin":http://neighborsforneighbors.org/profile
 /MeghannMartin
ATTACH;FMTTYPE="image/jpeg":
ATTENDEE;ROLE=REQ-PARTICIPANT;PARTSTAT=ACCEPTED;RSVP=TRUE;CN="Meghann 
 Martin":http://neighborsforneighbors.org/profile/MeghannMartin
END:VEVENT
END:VCALENDAR
