BEGIN:VCALENDAR
PRODID:NingEventWidget-v1
VERSION:2.0
METHOD:PUBLISH
BEGIN:VEVENT
UID:1171189:Event:104493
DTSTAMP:20260421T185813Z
SUMMARY:Turkey Trot 5K
DESCRIPTION:Run or walk the beautiful paths of “jewel” of the Emer
 ald Necklace to start your Thanksgiving Day!  The scenic 3.1 mile rou
 te includes historic views and woodlands of Franklin Park. You can wor
 k off your Thanksgiving calories before you sit down at the table! Cli
 ck here for more info or register here. Race starts at 9am at Franklin
  Park Golf Clubhouse, One Franklin Park Road, Dorchester, MA 02121. $2
 5/adults; $10/under 18 - waivers available upon request. www.franklinp
 arkcoalition.org / 617-442-4141\n\nFor more information visit http://n
 eighborsforneighbors.org/events/turkey-trot-5k
DTSTART:20131128T140000Z
DTEND:20131128T150000Z
CATEGORIES:run, fundraiser
LOCATION:Franklin Park, One Circuit Drive, Dorchester
WEBSITE:https://maps.google.com/maps?q=1+circuit+drive+boston+ma&hnear
 =1+Circuit+Dr,+Boston,+Massachusetts+02124&gl=us&t=h&z=16
URL:https://maps.google.com/maps?q=1+circuit+drive+boston+ma&hnear=1+C
 ircuit+Dr,+Boston,+Massachusetts+02124&gl=us&t=h&z=16
CONTACT:6174424141
ORGANIZER;CN="Christine Poff":http://neighborsforneighbors.org/profile
 /ChristinePoff67
ATTACH;FMTTYPE="image/jpeg":http://storage.ning.com/topology/rest/1.0/
 file/get/2245141899?profile=original
ATTENDEE;ROLE=REQ-PARTICIPANT;PARTSTAT=ACCEPTED;RSVP=TRUE;CN="Christin
 e Poff":http://neighborsforneighbors.org/profile/ChristinePoff67
END:VEVENT
END:VCALENDAR
