BEGIN:VCALENDAR
PRODID:NingEventWidget-v1
VERSION:2.0
METHOD:PUBLISH
BEGIN:VEVENT
UID:1171189:Event:90027
DTSTAMP:20260421T195412Z
SUMMARY:Viva Italia! Concert
DESCRIPTION:\n\n\nI am traveling to Viterbo to sing with the Internati
 onal lyric Academy Orchestra, and attending the prestigious and intens
 ive OperaWorks training program this summer.  To celebrate and to ra
 ise funds for this epic journey. I am hosting an evening of Italian Ar
 t Songs, Opera Arias, and Scenes performed in their original language 
 . . . Italian!  Click HERE for more information.I will be joined by
  my friends:Christina English, Mezzo SopranoChristiaan Smith-Kotlarek,
  BaritoneDana Schnitzer, SopranoEthan Bremner, Tenor RaShaun Campbell
 , BaritoneRebekah Alexander, Soprano Yukiko Oba, PianoWe will perform
 s pieces by Bellini, Donizetti, Verdi, Respighi, Capodaglio,and . . . 
 Mozart (an honorary Italian)There will be a reception with small Itali
 an bites and beverages.*Attendance by donation\n\n\n\n\n\nFor more inf
 ormation visit http://neighborsforneighbors.org/events/viva-italia-con
 cert
DTSTART:20120601T233000Z
DTEND:20120602T010000Z
CATEGORIES:concert
LOCATION:First Church in Boston
WEBSITE:https://maps.google.com/maps?q=First+Church+in+Boston,+Marlbor
 ough+Street,+Boston,+MA&hl=en&ll=42.35385,-71.074977&spn=0.02534,0.038
 581&sll=37.0625,-95.677068&sspn=54.928982,79.013672&oq=first+church+in
 +boston&t=h&hq=First+Church+in+Boston,+Marlborough+Street,+Boston,+MA&
 z=15&iwloc=A
URL:https://maps.google.com/maps?q=First+Church+in+Boston,+Marlborough
 +Street,+Boston,+MA&hl=en&ll=42.35385,-71.074977&spn=0.02534,0.038581&
 sll=37.0625,-95.677068&sspn=54.928982,79.013672&oq=first+church+in+bos
 ton&t=h&hq=First+Church+in+Boston,+Marlborough+Street,+Boston,+MA&z=15
 &iwloc=A
CONTACT:
ORGANIZER:Erin Anderson
ATTACH;FMTTYPE="image/jpeg":
ATTENDEE;ROLE=REQ-PARTICIPANT;PARTSTAT=ACCEPTED;RSVP=TRUE;CN="Erin Ped
 ersen":http://neighborsforneighbors.org/profile/ErinPedersen
END:VEVENT
END:VCALENDAR
