BEGIN:VCALENDAR
PRODID:NingEventWidget-v1
VERSION:2.0
METHOD:PUBLISH
BEGIN:VEVENT
UID:1171189:Event:71964
DTSTAMP:20260421T195606Z
SUMMARY:Wake Up the Earth Festival
DESCRIPTION:Wake Up the Earth is an interactive family neighborhood  
 festival celebrating Earth Day and the power and beauty of JP neighbor
 hood diversity.  3 stages with live music all day, free children's ac
 tivities, street theater, arts and crafts booths, ethnic food, non-pro
 fit info tables, dancing and interactive arts activities. Attracts 10,
 000 participants; our 34th year. To learn more just google us!\n\nFor 
 more information visit http://neighborsforneighbors.org/events/wake-up
 -the-earth-festival-1
DTSTART:20110507T163000Z
DTEND:20110507T213000Z
CATEGORIES:festival
LOCATION:Jamaica Plain, Southwest Corridor Park
WEBSITE:http://google us!
URL:http://google us!
CONTACT:
ORGANIZER:Spontaneous Celebrations,45 Danforth St., JP
ATTACH;FMTTYPE="image/jpeg":http://storage.ning.com/topology/rest/1.0/
 file/get/2245133577?profile=original
ATTENDEE;ROLE=REQ-PARTICIPANT;PARTSTAT=ACCEPTED;RSVP=TRUE;CN="Joseph P
 orcelli (Chief Neighbor)":http://neighborsforneighbors.org/profile/jos
 ephporcelli
ATTENDEE;ROLE=REQ-PARTICIPANT;PARTSTAT=ACCEPTED;RSVP=TRUE;CN="Hope Haf
 f":http://neighborsforneighbors.org/profile/HopeHaff
END:VEVENT
END:VCALENDAR
