BEGIN:VCALENDAR
PRODID:NingEventWidget-v1
VERSION:2.0
METHOD:PUBLISH
BEGIN:VEVENT
UID:1171189:Event:71866
DTSTAMP:20260421T212654Z
SUMMARY:Wake Up the Earth Parade
DESCRIPTION:Parade with 5 bands, giant puppets, baton twirlers, stilt 
 walkers assembles 10:30 am at Curtis Hall, junction Centre St. and Sou
 th St., J.P. and proceeds down Centre St. , ending at the Southwest Co
 rridor Park. Anyone can dress up, decorate their bike,stroller or whee
 lchair, and join the fun. Costumes available to lendchildren, adults! 
 Ends 12 noon at Stony Brook T., Orange Line. Call Hope, if questions o
 r to reserve costumes: 617-676-7006 or 617-522-4634. wakeuptheearthpar
 ade@gmail.com\n\nFor more information visit http://neighborsforneighbo
 rs.org/events/wake-up-the-earth-parade
DTSTART:20110507T143000Z
DTEND:20110507T154500Z
CATEGORIES:earth, day, multicultural, neighborhood, "parade."
LOCATION:Curtis Hall/Loring-Greenough House/the Monument\"
WEBSITE:
URL:
CONTACT:617-676-7006, 617-522-4634
ORGANIZER:Hope Haff/Spontaneous Celebrations
ATTACH;FMTTYPE="image/jpeg":http://storage.ning.com/topology/rest/1.0/
 file/get/2245134073?profile=original
ATTENDEE;ROLE=REQ-PARTICIPANT;PARTSTAT=ACCEPTED;RSVP=TRUE;CN="Hope Haf
 f":http://neighborsforneighbors.org/profile/HopeHaff
END:VEVENT
END:VCALENDAR
