BEGIN:VCALENDAR
PRODID:NingEventWidget-v1
VERSION:2.0
METHOD:PUBLISH
BEGIN:VEVENT
UID:1171189:Event:82458
DTSTAMP:20260422T095220Z
SUMMARY:Walk/Ride Boston Kickoff Event
DESCRIPTION:The Green Streets Initiative hosts this celebration with L
 ieutenant Governor Timothy Murray, MBTA Acting General Manager Jonatha
 n Davis, Boston Bikes Director Nicole Freedman, and others. There will
  also be exhibitors, music and refreshments.\nClick here for more info
 rmation from the Green Streets Initiative website.\n\nFor more informa
 tion visit http://neighborsforneighbors.org/events/walk-ride-boston-ki
 ckoff-event
DTSTART:20110930T120000Z
DTEND:20111001T013000Z
CATEGORIES:celebration
LOCATION:South Station
WEBSITE:http://www.south-station.net/Station-Information/Directions.ht
 m
URL:http://www.south-station.net/Station-Information/Directions.htm
CONTACT:
ORGANIZER:Green Streets Initiative
ATTACH;FMTTYPE="image/jpeg":http://storage.ning.com/topology/rest/1.0/
 file/get/2245136403?profile=original
ATTENDEE;ROLE=REQ-PARTICIPANT;PARTSTAT=ACCEPTED;RSVP=TRUE;CN="Ferris W
 heels Bike Shop":http://neighborsforneighbors.org/profile/FerrisWheels
 BikeShop
END:VEVENT
END:VCALENDAR
