BEGIN:VCALENDAR
PRODID:NingEventWidget-v1
VERSION:2.0
METHOD:PUBLISH
BEGIN:VEVENT
UID:1171189:Event:109619
DTSTAMP:20260421T222933Z
SUMMARY:Walk to Cure Arthritis Boston
DESCRIPTION:SIGN UP AND FUNDRAISE TODAY!The Arthritis Foundation’s W
 alk to Cure Arthritis raises funds to fight andcure the nation’s #1 
 cause of disability. We need your support to end thiscrippling disease
 . Join the 2014 Walk to Cure Arthritis Boston and fundresearch to find
  the cure. Every step counts and every dollar matters!\n\nFor more inf
 ormation visit http://neighborsforneighbors.org/events/walk-to-cure-ar
 thritis-boston
DTSTART:20140914T130000Z
DTEND:20140914T170000Z
CATEGORIES:fundraiser
LOCATION:DCR’s Artesani Park
WEBSITE:https://www.google.com/maps/preview?q=1255+Soldiers+Field+Road
 &ie=UTF-8&hq=&hnear=0x89e3777d863d06e7:0xc2dfc95d871fb9ee,1255+Soldier
 s+Field+Rd,+Boston,+MA+02135&gl=us&ei=a6rGU_DhG9ekyASXzoHoBQ&ved=0CB4Q
 8gEwAA&source=newuser-ws
URL:https://www.google.com/maps/preview?q=1255+Soldiers+Field+Road&ie=
 UTF-8&hq=&hnear=0x89e3777d863d06e7:0xc2dfc95d871fb9ee,1255+Soldiers+Fi
 eld+Rd,+Boston,+MA+02135&gl=us&ei=a6rGU_DhG9ekyASXzoHoBQ&ved=0CB4Q8gEw
 AA&source=newuser-ws
CONTACT:617-762-2128
ORGANIZER;CN="Robin Maxcy":http://neighborsforneighbors.org/profile/Ro
 binMaxcy
ATTACH;FMTTYPE="image/jpeg":http://storage.ning.com/topology/rest/1.0/
 file/get/2245143032?profile=original
ATTENDEE;ROLE=REQ-PARTICIPANT;PARTSTAT=ACCEPTED;RSVP=TRUE;CN="Robin Ma
 xcy":http://neighborsforneighbors.org/profile/RobinMaxcy
END:VEVENT
END:VCALENDAR
