BEGIN:VCALENDAR
PRODID:NingEventWidget-v1
VERSION:2.0
METHOD:PUBLISH
BEGIN:VEVENT
UID:1171189:Event:47654
DTSTAMP:20260421T183904Z
SUMMARY:Walking for Wellness
DESCRIPTION:Bring your strollers and canine companions if you like to 
 this event focused on Healthy Heart Initiative. Walk a different part 
 of the Southwest Corridor Park every week in July! Complete all four a
 nd receive an Award Certificate! Email katie.mcauliffe@state.ma.us or 
 call 617-828-1613 to sign up.\n\nFor more information visit http://nei
 ghborsforneighbors.org/events/walking-for-wellness
DTSTART:20100703T140000Z
DTEND:20100731T140000Z
CATEGORIES:walking, "club/fitness"
LOCATION:Southwest Corridor
WEBSITE:http://www.mass.gov/dcr/events.htm
URL:http://www.mass.gov/dcr/events.htm
CONTACT:617 828 1613
ORGANIZER;CN="katie mcauliffe":http://neighborsforneighbors.org/profil
 e/katiemcauliffe
ATTACH;FMTTYPE="image/jpeg":
ATTENDEE;ROLE=REQ-PARTICIPANT;PARTSTAT=ACCEPTED;RSVP=TRUE;CN="katie mc
 auliffe":http://neighborsforneighbors.org/profile/katiemcauliffe
END:VEVENT
END:VCALENDAR
