BEGIN:VCALENDAR
PRODID:NingEventWidget-v1
VERSION:2.0
METHOD:PUBLISH
BEGIN:VEVENT
UID:1171189:Event:85453
DTSTAMP:20260422T005948Z
SUMMARY:Weatherization Housewarming
DESCRIPTION:Come enjoy warm drinks and snacks while seeing how your ne
 ighbor is saving on her heating costs and helping the local economy an
 d environment with no-cost insulation and air sealing through Renew Bo
 ston. Learn how you can too. Meet your neighbors and help us weatheriz
 e JP!  Contact Josh to RSVP - josh@massenergy.org or 617-524-3950 x158
 \n\nFor more information visit http://neighborsforneighbors.org/events
 /weatherization-housewarming
DTSTART:20111119T173000Z
DTEND:20111119T203000Z
CATEGORIES:housewarming
LOCATION:Home of Myrta Montijo
WEBSITE:http://www.facebook.com/pages/Renew-Boston/151060118251256#!/e
 vents/231934096870710/
URL:http://www.facebook.com/pages/Renew-Boston/151060118251256#!/event
 s/231934096870710/
CONTACT:617-291-2443
ORGANIZER;CN="Josh Lynch":http://neighborsforneighbors.org/profile/Jos
 hLynch
ATTACH;FMTTYPE="image/jpeg":http://storage.ning.com/topology/rest/1.0/
 file/get/2245135355?profile=original
ATTENDEE;ROLE=REQ-PARTICIPANT;PARTSTAT=ACCEPTED;RSVP=TRUE;CN="Josh Lyn
 ch":http://neighborsforneighbors.org/profile/JoshLynch
END:VEVENT
END:VCALENDAR
