BEGIN:VCALENDAR
PRODID:NingEventWidget-v1
VERSION:2.0
METHOD:PUBLISH
BEGIN:VEVENT
UID:1171189:Event:39722
DTSTAMP:20260421T182237Z
SUMMARY:Well-Rounded Radio fundraiser
DESCRIPTION:\"This afternoon event will raise funds to cover our costs
  for hosting the site and bandwidth plus some of our ongoing marketing
  expenses to spread the word about Well-Rounded Radio\" Charlie McEner
 ney, Well-Rounded Radio Producer and Jamaica Plain Resident\n\nThe lin
 e-up of performances includes:\nLovewhip\nJeffrey Simmons\nSpouse\nMic
 hael Tarbox\nRyan Walsh of Hallelujah the Hills\n\nFor more informatio
 n visit http://neighborsforneighbors.org/events/wellrounded-radio-fund
 raiser
DTSTART:20100418T170000Z
DTEND:20100418T210000Z
CATEGORIES:fundraider, for, well-rounded, radio
LOCATION:The Middle East (upstairs) in Cambridge, MA
WEBSITE:http://www.mideastclub.com/
URL:http://www.mideastclub.com/
CONTACT:(617) 864-3278
ORGANIZER;CN="Eileen McMahon":http://neighborsforneighbors.org/profile
 /EileenMcMahon
ATTACH;FMTTYPE="image/jpeg":http://storage.ning.com/topology/rest/1.0/
 file/get/2245124566?profile=original
ATTENDEE;ROLE=REQ-PARTICIPANT;PARTSTAT=ACCEPTED;RSVP=TRUE;CN="Charles 
 McEnerney":http://neighborsforneighbors.org/profile/CharlesMcEnerney
ATTENDEE;ROLE=REQ-PARTICIPANT;PARTSTAT=ACCEPTED;RSVP=TRUE;CN="Eileen M
 cMahon":http://neighborsforneighbors.org/profile/EileenMcMahon
END:VEVENT
END:VCALENDAR
