BEGIN:VCALENDAR
PRODID:NingEventWidget-v1
VERSION:2.0
METHOD:PUBLISH
BEGIN:VEVENT
UID:1171189:Event:91904
DTSTAMP:20260421T195611Z
SUMMARY:What’s This About a JP Winter Farmers Market?
DESCRIPTION:Fresh Local Produce in the Winter? Yes! Come learn abou
 t the new Egleston Farmers Market, to be held this winter at Our Lady
  of Lourdes Parish Center, just steps from the Brewery complex. Meet t
 he market coordinator and local farmers (Buckle Farms and Yardbirds)
  and learn about the great benefits of fresh, local food in the win
 tertime. Free. For more info, visit  or contact eglestonfarmersmarket
 @gmail.com.\n\nFor more information visit http://neighborsforneighbors
 .org/events/what-s-this-about-a-jp-winter-farmers-market
DTSTART:20121025T230000Z
DTEND:20121026T010000Z
CATEGORIES:educational, event
LOCATION:JP Forum, The First Church in Jamaica Plain, Unitarian Univer
 salist
WEBSITE:http://jamaicaplainforum.org/
URL:http://jamaicaplainforum.org/
CONTACT:
ORGANIZER;CN="Myrna Greenfield":http://neighborsforneighbors.org/profi
 le/MyrnaGreenfield
ATTACH;FMTTYPE="image/jpeg":
ATTENDEE;ROLE=REQ-PARTICIPANT;PARTSTAT=ACCEPTED;RSVP=TRUE;CN="Myrna Gr
 eenfield":http://neighborsforneighbors.org/profile/MyrnaGreenfield
END:VEVENT
END:VCALENDAR
