BEGIN:VCALENDAR
PRODID:NingEventWidget-v1
VERSION:2.0
METHOD:PUBLISH
BEGIN:VEVENT
UID:1171189:Event:71180
DTSTAMP:20260421T203342Z
SUMMARY:Whole Foods Ad Hoc Committee meeting
DESCRIPTION:Weekly working meeting of the Ad Hoc committee. All intere
 sted parties are invited.\n\nFor more information visit http://neighbo
 rsforneighbors.org/events/whole-foods-ad-hoc-committee
DTSTART:20110428T230000Z
DTEND:20110429T010000Z
CATEGORIES:meeting
LOCATION:Bowtich School
WEBSITE:http://www.JPNC.org
URL:http://www.JPNC.org
CONTACT:
ORGANIZER:JPNC
ATTACH;FMTTYPE="image/jpeg":
ATTENDEE;ROLE=REQ-PARTICIPANT;PARTSTAT=ACCEPTED;RSVP=TRUE;CN="Monty Co
 rnell":http://neighborsforneighbors.org/profile/MontyCornell
END:VEVENT
END:VCALENDAR
