BEGIN:VCALENDAR
PRODID:NingEventWidget-v1
VERSION:2.0
METHOD:PUBLISH
BEGIN:VEVENT
UID:1171189:Event:64604
DTSTAMP:20260421T172100Z
SUMMARY:Whole Foods community forum Feb 8
DESCRIPTION:The Jamaica Plain Neighborhood Council and Hyde/Jackson Ma
 in Streets will be hosting a community forum to discuss the pending ar
 rival of Whole Foods in the Hi-Lo space. This meeting will allow membe
 rs of the community to discuss questions and concerns that need to be 
 brought to Whole Foods management as they plan for the new store.Â \nÂ
  \nThe meeting will take place on February 8 at 7pm in the auditorium 
 of the Kennedy Elementary School.\nÂ \nIf you have questions or need m
 ore information contact the Jamaica Plain Neighborhood Council at jpnc
 .org or email info.jpnc@gmail.com\nÂ \nCo-sponsors of this forum inclu
 de:\nHyde Square Task Force â€˘Â Jamaica Plain Neighborhood Developmen
 t Corporation â€˘Â City Councilor Matt Oâ€™Malley â€˘ City Councilor F
 elix Arroyo â€˘Â State Representative Jeffrey Sanchez\nÂ \n\nFor more 
 information visit http://neighborsforneighbors.org/events/whole-foods-
 community-forum
DTSTART:20110209T000000Z
DTEND:20110209T020000Z
CATEGORIES:community, "meeting/forum"
LOCATION:Kennedy Elementary School
WEBSITE:http://JPNC.org
URL:http://JPNC.org
CONTACT:
ORGANIZER;CN="Dave Demerjian":http://neighborsforneighbors.org/profile
 /DaveDemerjian
ATTACH;FMTTYPE="image/jpeg":
ATTENDEE;ROLE=REQ-PARTICIPANT;PARTSTAT=ACCEPTED;RSVP=TRUE;CN="Belle Ke
 ller":http://neighborsforneighbors.org/profile/BelleKeller
ATTENDEE;ROLE=REQ-PARTICIPANT;PARTSTAT=ACCEPTED;RSVP=TRUE;CN="Juan Gon
 zalez":http://neighborsforneighbors.org/profile/JuanGonzalez
ATTENDEE;ROLE=REQ-PARTICIPANT;PARTSTAT=ACCEPTED;RSVP=TRUE;CN="Jennie P
 ":http://neighborsforneighbors.org/profile/JenniePakradooni
ATTENDEE;ROLE=REQ-PARTICIPANT;PARTSTAT=ACCEPTED;RSVP=TRUE;CN="Gretchen
  Van Ness":http://neighborsforneighbors.org/profile/GretchenVanNess
ATTENDEE;ROLE=REQ-PARTICIPANT;PARTSTAT=ACCEPTED;RSVP=TRUE;CN="www.TheB
 ostonHomeTeam.com/blog":http://neighborsforneighbors.org/profile/Willi
 amBrokhof
ATTENDEE;ROLE=REQ-PARTICIPANT;PARTSTAT=ACCEPTED;RSVP=TRUE;CN="Nancy Ba
 rron":http://neighborsforneighbors.org/profile/NancyBarron
ATTENDEE;ROLE=REQ-PARTICIPANT;PARTSTAT=ACCEPTED;RSVP=TRUE;CN="Joseph P
 orcelli (Chief Neighbor)":http://neighborsforneighbors.org/profile/jos
 ephporcelli
ATTENDEE;ROLE=REQ-PARTICIPANT;PARTSTAT=ACCEPTED;RSVP=TRUE;CN=Alison:ht
 tp://neighborsforneighbors.org/profile/Alison
ATTENDEE;ROLE=REQ-PARTICIPANT;PARTSTAT=ACCEPTED;RSVP=TRUE;CN="Dave Dem
 erjian":http://neighborsforneighbors.org/profile/DaveDemerjian
ATTENDEE;ROLE=REQ-PARTICIPANT;PARTSTAT=TENTATIVE;RSVP=TRUE;CN="Jeremy 
 Thompson":http://neighborsforneighbors.org/profile/JeremyThompson
ATTENDEE;ROLE=REQ-PARTICIPANT;PARTSTAT=TENTATIVE;RSVP=TRUE;CN=Lauren:h
 ttp://neighborsforneighbors.org/profile/Lauren72
END:VEVENT
END:VCALENDAR
