BEGIN:VCALENDAR
PRODID:NingEventWidget-v1
VERSION:2.0
METHOD:PUBLISH
BEGIN:VEVENT
UID:1171189:Event:33666
DTSTAMP:20260421T215011Z
SUMMARY:Winter Snow Festival
DESCRIPTION:Hello everyone,\n\nThank you so much for your interest in 
 the Winter Snow Festival! Unfortunately, due to the lack of snow, we h
 ave had to cancel this event. We are very disappointed that this won't
  take place, but with only an inch or so of snow that will probably en
 d up melting over the next few sunny days, it's just not possible to h
 ave the activities that were planned. We're very sorry that we had to 
 cancel, but we hope that we will see you all at the festival next year
 !\n\nThe Franklin Park Coalition hosts a number of free events like th
 e Winter Snow Festival throughout the year. To get updates on upcoming
  events, please join our Facebook group and fanpage and follow us on T
 witter @FranklinParkBos.\n\nWe apologize again for any inconvenience. 
 We hope that we'll get to see you at another FPC event in the future!\
 n\nFor more information visit http://neighborsforneighbors.org/events/
 winter-snow-festival
DTSTART:20100213T180000Z
DTEND:20100213T210000Z
CATEGORIES:outdoor, event
LOCATION:Franklin Park Golf Club House
WEBSITE:http://www.franklinparkcoalition.org
URL:http://www.franklinparkcoalition.org
CONTACT:617-442-4141
ORGANIZER:Franklin Park Coalition
ATTACH;FMTTYPE="image/jpeg":http://storage.ning.com/topology/rest/1.0/
 file/get/2245121195?profile=original
ATTENDEE;ROLE=REQ-PARTICIPANT;PARTSTAT=ACCEPTED;RSVP=TRUE;CN="Christin
 e Poff":http://neighborsforneighbors.org/profile/ChristinePoff67
END:VEVENT
END:VCALENDAR
