BEGIN:VCALENDAR
PRODID:NingEventWidget-v1
VERSION:2.0
METHOD:PUBLISH
BEGIN:VEVENT
UID:1171189:Event:79754
DTSTAMP:20260421T215320Z
SUMMARY:WOMEN BUSINESS LEADERS CONFERENCE: Your Destination For Succes
 s
DESCRIPTION:The Center for Women and Enterprise's (CWE) annual confere
 nce is New England's premiere educational and networking event for wom
 en business leaders and supplier diversity professionals throughout Ne
 w England. ~ Attend an in-depth, interactive workshop designed to help
  you grow your business and develop your professional skills. These in
 clude Developing Your Social Media Strategy, Selling the Value of Supp
 lier Diversity, Building Strategic Partnerships & Alliances, and Prici
 ng & Sales Negotiation. ~ Network with other professionals who share a
  commitment to promoting women in business, including Fortune 500 comp
 anies, women business owners and community advocates.  ~ Celebrate the
  achievements of corporations and women business leaders at the CWE Le
 adership Awards Luncheon. Join us for the day to share in our educatio
 nal programming and networking activities, or stop by for our CWE Awar
 ds Luncheon. At the Luncheon, we will recognize New England leaders an
 d supporters of women-owned businesses with a keynote address by Betsy
  Myers. Registration: Certified WBE - $100. Non-WBE - $125. Awards Lun
 cheon Only - $75. We hope to see you there!\nFor more information or t
 o purchase tickets, contact Sarah Miller at (617) 532-0225, email smil
 ler@cweonline.org, or visit the event page at http://cwewblc-eorg.even
 tbrite.com/\n\nFor more information visit http://neighborsforneighbors
 .org/events/women-business-leaders-conference-your-destination-for-suc
 cess
DTSTART:20111013T113000Z
DTEND:20111013T190000Z
CATEGORIES:conference
LOCATION:Bentley University
WEBSITE:
URL:
CONTACT:
ORGANIZER:The Center for Women and Enterprise
ATTACH;FMTTYPE="image/jpeg":
ATTENDEE;ROLE=REQ-PARTICIPANT;PARTSTAT=ACCEPTED;RSVP=TRUE;CN="Monica F
 aberman":http://neighborsforneighbors.org/profile/MonicaFaberman
END:VEVENT
END:VCALENDAR
