BEGIN:VCALENDAR
PRODID:NingEventWidget-v1
VERSION:2.0
METHOD:PUBLISH
BEGIN:VEVENT
UID:1171189:Event:36465
DTSTAMP:20260421T182616Z
SUMMARY:Women Giving Birth to a Book: Author Readings by the Streetfee
 t Women
DESCRIPTION:Members of the Streetfeet Women will read from their new b
 ook, The Bones We Carry, and discuss the process of writing a book.\n\
 nFor more information visit http://neighborsforneighbors.org/events/wo
 men-giving-birth-to-a-book
DTSTART:20100329T223000Z
DTEND:20100329T234500Z
CATEGORIES:author, readings, libraries
LOCATION:Connolly Branch Library
WEBSITE:http://www.bpl.org/branches/connolly.htm
URL:http://www.bpl.org/branches/connolly.htm
CONTACT:617-522-1960
ORGANIZER;CN="Connolly Branch Library":http://neighborsforneighbors.or
 g/profile/ConnollyBranchLibrary
ATTACH;FMTTYPE="image/jpeg":http://storage.ning.com/topology/rest/1.0/
 file/get/2245123425?profile=original
ATTENDEE;ROLE=REQ-PARTICIPANT;PARTSTAT=ACCEPTED;RSVP=TRUE;CN="Connolly
  Branch Library":http://neighborsforneighbors.org/profile/ConnollyBran
 chLibrary
END:VEVENT
END:VCALENDAR
