BEGIN:VCALENDAR
PRODID:NingEventWidget-v1
VERSION:2.0
METHOD:PUBLISH
BEGIN:VEVENT
UID:1171189:Event:44745
DTSTAMP:20260421T182650Z
SUMMARY:Women's Fitness Ride
DESCRIPTION:Finally, a training ride for the women! Whether you're get
 ting ready for a charity ride or triathlon, or just want to take your 
 cycling to the next level, this ride is for you. For more information 
 stop by the shop or call 617-524-2453. Women's Fitness Rides leave fro
 m in front of Ferris Wheels at 8:30 am every Saturday during riding se
 ason.\n\nFor more information visit http://neighborsforneighbors.org/e
 vents/womens-fitness-ride
DTSTART:20100529T123000Z
DTEND:20100529T133000Z
CATEGORIES:ride
LOCATION:Ferris Wheels Bike Shop
WEBSITE:http://www.ferriswheelsbikeshop.com
URL:http://www.ferriswheelsbikeshop.com
CONTACT:617-524-BIKE
ORGANIZER;CN="Ferris Wheels Bike Shop":http://neighborsforneighbors.or
 g/profile/FerrisWheelsBikeShop
ATTACH;FMTTYPE="image/jpeg":http://storage.ning.com/topology/rest/1.0/
 file/get/2245129715?profile=original
ATTENDEE;ROLE=REQ-PARTICIPANT;PARTSTAT=ACCEPTED;RSVP=TRUE;CN="Ferris W
 heels Bike Shop":http://neighborsforneighbors.org/profile/FerrisWheels
 BikeShop
END:VEVENT
END:VCALENDAR
