BEGIN:VCALENDAR
PRODID:NingEventWidget-v1
VERSION:2.0
METHOD:PUBLISH
BEGIN:VEVENT
UID:1171189:Event:53951
DTSTAMP:20260421T214649Z
SUMMARY:Yard sale
DESCRIPTION:Furniture! Housewares! Other Stuff! Check it out! Yes!\n\n
 For more information visit http://neighborsforneighbors.org/events/yar
 d-sale-2
DTSTART:20101003T130000Z
DTEND:20101003T180000Z
CATEGORIES:yard, sale
LOCATION:South Huntington - next to 7-11
WEBSITE:
URL:
CONTACT:
ORGANIZER;CN="Ric Mauré":http://neighborsforneighbors.org/profile/Ric
 Maure
ATTACH;FMTTYPE="image/jpeg":
ATTENDEE;ROLE=REQ-PARTICIPANT;PARTSTAT=ACCEPTED;RSVP=TRUE;CN="Ric Maur
 é":http://neighborsforneighbors.org/profile/RicMaure
END:VEVENT
END:VCALENDAR
