BEGIN:VCALENDAR
PRODID:NingEventWidget-v1
VERSION:2.0
METHOD:PUBLISH
BEGIN:VEVENT
UID:1171189:Event:97512
DTSTAMP:20260421T185812Z
SUMMARY:YARD SALE
DESCRIPTION:HUGE yard sale!  Lots of furniture, home decor: paintings
 , silk plants etc. Girls clothes size 10-12, bicycles and much more. 
  We are purging like never before...baseball bats, raquetball rackets.
 ..etc.\n\nFor more information visit http://neighborsforneighbors.org/
 events/yard-sale-3
DTSTART:20130518T130000Z
DTEND:20130518T210000Z
CATEGORIES:yard, sale
LOCATION:800 Centre Street, Jamaica Plain
WEBSITE:http://maps.google.com/maps?q=800+Centre+Street,+Boston,+MA&hl
 =en&sll=37.6,-95.665&sspn=55.410458,88.857422&oq=800+centre+st&hnear=8
 00+Centre+St,+Boston,+Suffolk,+Massachusetts+02130&t=m&z=17
URL:http://maps.google.com/maps?q=800+Centre+Street,+Boston,+MA&hl=en&
 sll=37.6,-95.665&sspn=55.410458,88.857422&oq=800+centre+st&hnear=800+C
 entre+St,+Boston,+Suffolk,+Massachusetts+02130&t=m&z=17
CONTACT:
ORGANIZER;CN="Robin Maxfield":http://neighborsforneighbors.org/profile
 /RobinMaxfield800
ATTACH;FMTTYPE="image/jpeg":
ATTENDEE;ROLE=REQ-PARTICIPANT;PARTSTAT=ACCEPTED;RSVP=TRUE;CN="Robin Ma
 xfield":http://neighborsforneighbors.org/profile/RobinMaxfield800
END:VEVENT
END:VCALENDAR
