BEGIN:VCALENDAR
PRODID:NingEventWidget-v1
VERSION:2.0
METHOD:PUBLISH
BEGIN:VEVENT
UID:1171189:Event:27088
DTSTAMP:20260421T164241Z
SUMMARY:Yard Sale at 189 Chestnut Ave
DESCRIPTION:Located on the corner of Chestnut and Spring Park\n\nCome 
 by, meet Victoria, and wish her bon voyage. She's moving to San Franci
 sco, hence the need for the yard sale.\n\nFor more information visit h
 ttp://neighborsforneighbors.org/events/yard-sale-at-189-chestnut-ave
DTSTART:20090808T140000Z
DTEND:20090808T190000Z
CATEGORIES:yard, sale
LOCATION:Corner of Spring Park & Chestnut
WEBSITE:
URL:
CONTACT:
ORGANIZER:Victoria Binder (Apt 1R)
ATTACH;FMTTYPE="image/jpeg":
ATTENDEE;ROLE=REQ-PARTICIPANT;PARTSTAT=ACCEPTED;RSVP=TRUE;CN="Edith Mu
 rnane":http://neighborsforneighbors.org/profile/EdithMurnane
END:VEVENT
END:VCALENDAR
