BEGIN:VCALENDAR
PRODID:NingEventWidget-v1
VERSION:2.0
METHOD:PUBLISH
BEGIN:VEVENT
UID:1171189:Event:66154
DTSTAMP:20260421T182412Z
SUMMARY:Your Own Private Skate Park
DESCRIPTION:This will be a private park rental, meaning only people bu
 ying tickets from Ferris Wheels will be able to attend. This makes it 
 an ideal time for beginners or people who would not normally go to a s
 kate park. Tickets are $20/person. Prepay with cash, or paypal to: fer
 riswheelsbikeshop@gmail.com\nTickets are non-refundable and non-transf
 erable. If it snows, we'll still be going, and hopefully everyone else
  can still make it. If more than 15 people prepay, we'll use the surpl
 us cash to buy pizzas.\nBMX, MTB, Blades, and Boards welcome! Oh, and 
 bring some music you want to ride to.\nTHIS EVENT IS 18+\nPlease conta
 ct John with any questions: John@FerrisWheelsBikeShop.com\n\nFor more 
 information visit http://neighborsforneighbors.org/events/your-own-pri
 vate-skate-park
DTSTART:20110227T020000Z
DTEND:20110227T050000Z
CATEGORIES:"road trip", "skate park"
LOCATION:Rye Airfield Skate Park
WEBSITE:http://www.ryeairfield.com/
URL:http://www.ryeairfield.com/
CONTACT:
ORGANIZER;CN="Ferris Wheels Bike Shop":http://neighborsforneighbors.or
 g/profile/FerrisWheelsBikeShop
ATTACH;FMTTYPE="image/jpeg":http://storage.ning.com/topology/rest/1.0/
 file/get/2245132121?profile=original
ATTENDEE;ROLE=REQ-PARTICIPANT;PARTSTAT=ACCEPTED;RSVP=TRUE;CN="Ferris W
 heels Bike Shop":http://neighborsforneighbors.org/profile/FerrisWheels
 BikeShop
END:VEVENT
END:VCALENDAR
