BEGIN:VCALENDAR
PRODID:NingEventWidget-v1
VERSION:2.0
METHOD:PUBLISH
BEGIN:VEVENT
UID:1171189:Event:53083
DTSTAMP:20260421T184120Z
SUMMARY:You've Got Mail, For Real - Planning and Invitation Making Mee
 ting
DESCRIPTION:You've Got Mail, For Real is a group of neighbors who make
  and send invitations through snail-mail to random neighbors in Jamaic
 a Plain inviting them to write a letter and mail it to a good friend o
 r family member who would appreciate receiving something from someone 
 who cares about them in the mail.\n\nFor more info join our group.\n\n
 At this meeting we will work out details of how to make this work and 
 make some crafty invitation for a test run.\n\nFor more information vi
 sit http://neighborsforneighbors.org/events/youve-got-mail-for-real
DTSTART:20100920T233000Z
DTEND:20100921T010000Z
CATEGORIES:planning, crafts, fun
LOCATION:Jamaica Plain, mA
WEBSITE:http://jamaicaplain.neighborsforneighbors.org/group/mail
URL:http://jamaicaplain.neighborsforneighbors.org/group/mail
CONTACT:
ORGANIZER;CN=Amanda:http://neighborsforneighbors.org/profile/Amanda
ATTACH;FMTTYPE="image/jpeg":http://storage.ning.com/topology/rest/1.0/
 file/get/2159724605?profile=original
ATTENDEE;ROLE=REQ-PARTICIPANT;PARTSTAT=ACCEPTED;RSVP=TRUE;CN="Joseph P
 orcelli (Chief Neighbor)":http://neighborsforneighbors.org/profile/jos
 ephporcelli
ATTENDEE;ROLE=REQ-PARTICIPANT;PARTSTAT=ACCEPTED;RSVP=TRUE;CN=Amanda:ht
 tp://neighborsforneighbors.org/profile/Amanda
END:VEVENT
END:VCALENDAR
