BEGIN:VCALENDAR
PRODID:NingEventWidget-v1
VERSION:2.0
METHOD:PUBLISH
BEGIN:VEVENT
UID:1171189:Event:83977
DTSTAMP:20260421T154843Z
SUMMARY:Zumba classes every Mon and Weds 6-7 pm at Spontaneous Celebra
 tions!
DESCRIPTION:ZUMBA® CLASSES\nDitch the workout, Join the party!!\n\nAr
 e you ready to party yourself into shape? Zumba® is an exhilarating, 
 effective, easy-to-follow, Latin-inspired, calorie-burning dance fitne
 ss-party™ that’s moving millions of people toward joy and health. 
 Zumba classes feature exotic rhythms set to high-energy Latin and inte
 rnational beats, such as salsa, merengue, reggaeton, cumbia, bachata, 
 hip hop, West African, and Arabian. Before you know it, you’re getti
 ng fit and your energy levels are soaring! All levels welcome; no danc
 e experience necessary.\n \n \nSpontaneous Celebrations\n45 Danforth
  Street, Jamaica Plain, MA 02130\n(Near Stonybrook T stop on Orange Li
 ne, parking available)\n\nMONDAYS 6-7pm with Joya\nContact: joyafitnes
 s@gmail.com\n\nWEDNESDAYS 6-7pm with Nancy\nContact: getfitwithnancy@g
 mail.com\n\n***Only $10 drop-in for each class… or $80 for a 10-clas
 s card!*** (separate cards for Mon and Weds night)\n\n***Bring a water
  bottle and wear comfortable exercise clothing and sneakers.***\n\nFor
  more information visit http://neighborsforneighbors.org/events/zumba-
 classes-every-mon-6-7-pm-at-spontaneous-celebrations-3
DTSTART:20120305T230000Z
DTEND:20120306T000000Z
CATEGORIES:dance, class, zumba, exercise, fitness, jamaica, plain
LOCATION:Spontaneous Celebrations
WEBSITE:http://www.spontaneouscelebrations.org
URL:http://www.spontaneouscelebrations.org
CONTACT:
ORGANIZER;CN="Joya Lonsdale":http://neighborsforneighbors.org/profile/
 JoyaLonsdale
ATTACH;FMTTYPE="image/jpeg":http://storage.ning.com/topology/rest/1.0/
 file/get/2245131635?profile=original
ATTENDEE;ROLE=REQ-PARTICIPANT;PARTSTAT=ACCEPTED;RSVP=TRUE;CN="Joya Lon
 sdale":http://neighborsforneighbors.org/profile/JoyaLonsdale
END:VEVENT
END:VCALENDAR
