BEGIN:VCALENDAR
PRODID:NingEventWidget-v1
VERSION:2.0
METHOD:PUBLISH
BEGIN:VEVENT
UID:1171189:Event:91451
DTSTAMP:20260421T154832Z
SUMMARY:Zumba classes every Mon, Weds, Thurs 6-7 pm
DESCRIPTION:ZUMBA® CLASSES \nDitch the workout, Join the party!! \
 n \n Are you ready to party yourself into shape? Zumba® is an exhi
 larating, effective, easy-to-follow, Latin-inspired, calorie-burning d
 ance fitness-party™ that’s moving millions of people toward joy a
 nd health. Zumba classes feature exotic rhythms set to high-energy Lat
 in and international beats, such as salsa, merengue, reggaeton, cumbia
 , bachata, hip hop, West African, and Arabian. Before you know it, you
 ’re getting fit and your energy levels are soaring! All levels welco
 me; no dance experience necessary.\n \n \nSpontaneous Celebrations\n
 45 Danforth Street, Jamaica Plain, MA 02130\n(Near Stonybrook T stop o
 n Orange Line, parking available)\n \nMONDAYS 6-7pm with Joya\nContac
 t: joyafitness@gmail.com\n \nWEDNESDAYS 6-7pm with Nancy\nContact: ge
 tfitwithnancy@gmail.com\n\nTHURSDAYS 6-7pm--\n1st and 3rd Thurs with N
 ancy (see contact info above)\n2nd and 4th Thurs with Joya (see conta
 ct info above)\n  \n***Only $10 drop-in for each class… or $80 for
  a 10-class card!*** (separate cards for Joya's and Nancy's classes)\n
  \n***Bring a water bottle and wear comfortable exercise clothing and
  sneakers.***\n\nFor more information visit http://neighborsforneighbo
 rs.org/events/zumba-classes-every-mon-weds-thurs-6-7-pm
DTSTART:20120913T220000Z
DTEND:20120913T230000Z
CATEGORIES:zumba, dance, fitness, exercise, class, jamaica, plain, jp
LOCATION:Spontaneous Celebrations
WEBSITE:http://www.spontaneouscelebrations.org
URL:http://www.spontaneouscelebrations.org
CONTACT:
ORGANIZER;CN="Joya Lonsdale":http://neighborsforneighbors.org/profile/
 JoyaLonsdale
ATTACH;FMTTYPE="image/jpeg":http://storage.ning.com/topology/rest/1.0/
 file/get/2245131635?profile=original
ATTENDEE;ROLE=REQ-PARTICIPANT;PARTSTAT=ACCEPTED;RSVP=TRUE;CN="Joya Lon
 sdale":http://neighborsforneighbors.org/profile/JoyaLonsdale
END:VEVENT
END:VCALENDAR
