BEGIN:VCALENDAR
PRODID:NingEventWidget-v1
VERSION:2.0
METHOD:PUBLISH
BEGIN:VEVENT
UID:1171189:Event:89902
DTSTAMP:20260421T194502Z
SUMMARY:Zumba Classes in JP - 8 week session starts Thurs 5/10
DESCRIPTION:Enjoy fun \"salsacize\" style aerobic dance in a relaxed a
 nd fun atmosphere! A new 8 week session will start this Thursday, May 
 10, from 6:30-7:45, at JP Cohousing. This class is limited in size.\nT
 o sign up for all 8 weeks: $64 ($8/class)\nFor 1/2 pass of any 4 weeks
 : $36 ($9/class)\nDrop in (must RSVP day of; only if there is room) $1
 0/class.\n***Special for first timers, 1/2 off first class***\nPlease 
 contact Jennifer to sign up or for more info: jennifer.taub@gmail.com\
 n \n \n \n \n\nFor more information visit http://neighborsforneigh
 bors.org/events/zumba-classes-in-jp-8-week-session-starts-thurs-5-10
DTSTART:20120510T223000Z
DTEND:20120628T234500Z
CATEGORIES:zumba, class
LOCATION:Jamaica Plain Cohousing
WEBSITE:http://www.jpcohousing.org
URL:http://www.jpcohousing.org
CONTACT:857-205-6778
ORGANIZER;CN="Jennifer Taub":http://neighborsforneighbors.org/profile/
 JenniferTaub
ATTACH;FMTTYPE="image/jpeg":
ATTENDEE;ROLE=REQ-PARTICIPANT;PARTSTAT=ACCEPTED;RSVP=TRUE;CN="Jennifer
  Taub":http://neighborsforneighbors.org/profile/JenniferTaub
END:VEVENT
END:VCALENDAR
