BEGIN:VCALENDAR
PRODID:NingEventWidget-v1
VERSION:2.0
METHOD:PUBLISH
BEGIN:VEVENT
UID:1171189:Event:105481
DTSTAMP:20260421T155030Z
SUMMARY:Zumba classes Mondays and Wednesdays 6-7 pm
DESCRIPTION:ZUMBA® CLASSES \nDitch the workout, Join the party!! \
 n \n Are you ready to party yourself into shape? Zumba® is an exhi
 larating, effective, easy-to-follow, Latin-inspired, calorie-burning d
 ance fitness-party™ that’s moving millions of people toward joy a
 nd health. Zumba classes feature exotic rhythms set to high-energy Lat
 in and international beats, such as salsa, merengue, reggaeton, cumbia
 , bachata, hip hop, West African, and Arabian. Before you know it, you
 ’re getting fit and your energy levels are soaring! All levels welco
 me; no dance experience necessary.\n \n \nSpontaneous Celebrations\n
 45 Danforth Street, Jamaica Plain, MA 02130\n(Near Stonybrook T stop o
 n Orange Line, parking available)\n \nMONDAYS 6-7pm with Joya\nContac
 t: joyafitness@gmail.com\n \nWEDNESDAYS 6-7pm with Nancy\nContact: ge
 tfitwithnancy@gmail.com\n\n\n***$10 drop-in for each class… or only 
 $45 for a 5-class card or $80 for a 10-class card!*** (separate cards
  for Joya's and Nancy's classes, combo pack available for Nancy's 5-cl
 ass card and Joya's 5-class card for only $80)\n \n***Bring a water b
 ottle and wear comfortable exercise clothing and sneakers.***\n\n\nHow
  to get a FREE class:\n bring a friend/ family member/ co-worker/ n
 eighbor/ enemy/ anyone\n***who is a first-timer in our Zumba classes O
 NLY***\nand you get in FREE for that night.\n\n\n\n \n\nFor more info
 rmation visit http://neighborsforneighbors.org/events/zumba-classes-mo
 ndays-and-wednesdays-6-7-pm
DTSTART:20131230T230000Z
DTEND:20141230T000000Z
CATEGORIES:zumba, class, dance, exercise, fitness, jamaica, plain
LOCATION:Spontaneous Celebrations
WEBSITE:http://spontaneouscelebrations.org
URL:http://spontaneouscelebrations.org
CONTACT:4014745618
ORGANIZER:Joya Lonsdale, Nancy Deleon
ATTACH;FMTTYPE="image/jpeg":http://storage.ning.com/topology/rest/1.0/
 file/get/2245131635?profile=original
ATTENDEE;ROLE=REQ-PARTICIPANT;PARTSTAT=ACCEPTED;RSVP=TRUE;CN="Joya Lon
 sdale":http://neighborsforneighbors.org/profile/JoyaLonsdale
END:VEVENT
END:VCALENDAR
