BEGIN:VCALENDAR
PRODID:NingEventWidget-v1
VERSION:2.0
METHOD:PUBLISH
BEGIN:VEVENT
UID:1171189:Event:92168
DTSTAMP:20260421T211201Z
SUMMARY:Zumba classes Mondays Wednesdays Thursdays 6-7 pm
DESCRIPTION:ZUMBA® CLASSES \nDitch the workout, Join the party!! \
 n \n Are you ready to party yourself into shape? Zumba® is an exhi
 larating, effective, easy-to-follow, Latin-inspired, calorie-burning d
 ance fitness-party™ that’s moving millions of people toward joy a
 nd health. Zumba classes feature exotic rhythms set to high-energy Lat
 in and international beats, such as salsa, merengue, reggaeton, cumbia
 , bachata, hip hop, West African, and Arabian. Before you know it, you
 ’re getting fit and your energy levels are soaring! All levels welco
 me; no dance experience necessary.\n \n \nSpontaneous Celebrations\n
 45 Danforth Street, Jamaica Plain, MA 02130\n(Near Stonybrook T stop o
 n Orange Line, parking available)\n \nMONDAYS 6-7pm with Joya\nContac
 t: joyafitness@gmail.com\n \nWEDNESDAYS 6-7pm with Nancy\nContact: ge
 tfitwithnancy@gmail.com\n\nTHURSDAYS 6-7pm (1st and 3rd with Nancy, 2
 nd and 4th with Joya)\n\n  \n***Only $10 drop-in for each class, $45
  for a 5-class card or $80 for a 10-class card!*** (separate cards for
  Joya's and Nancy's classes)\n \n***Bring a water bottle and wear com
 fortable exercise clothing and sneakers.***\n \n\nFor more informatio
 n visit http://neighborsforneighbors.org/events/zumba-classes-mondays-
 wednesdays-thursdays-6-7-pm-3
DTSTART:20121024T220000Z
DTEND:20121029T230000Z
CATEGORIES:zumba, class
LOCATION:Spontaneous Celebrations
WEBSITE:
URL:
CONTACT:
ORGANIZER;CN="Joya Lonsdale":http://neighborsforneighbors.org/profile/
 JoyaLonsdale
ATTACH;FMTTYPE="image/jpeg":http://storage.ning.com/topology/rest/1.0/
 file/get/2245131635?profile=original
ATTENDEE;ROLE=REQ-PARTICIPANT;PARTSTAT=ACCEPTED;RSVP=TRUE;CN="Joya Lon
 sdale":http://neighborsforneighbors.org/profile/JoyaLonsdale
END:VEVENT
END:VCALENDAR
