BEGIN:VCALENDAR
PRODID:NingEventWidget-v1
VERSION:2.0
METHOD:PUBLISH
BEGIN:VEVENT
UID:1171189:Event:92358
DTSTAMP:20260421T185811Z
SUMMARY:Lunchtime Zumba ®
DESCRIPTION:Ditch the workout, Join the party !\nSalsa, Reggaeton, Roc
 k n roll, Batchata, Cumbia, Calypso, Merengue... Fitness style !\n\n$1
 0 drop in\n\nFor more information visit http://neighborsforneighbors.o
 rg/events/zumba-lunchtime-1
DTSTART:20121030T160000Z
DTEND:20121211T180000Z
CATEGORIES:fitness
LOCATION:Spontaneous celebrations
WEBSITE:
URL:
CONTACT:
ORGANIZER:Delphine
ATTACH;FMTTYPE="image/jpeg":
ATTENDEE;ROLE=REQ-PARTICIPANT;PARTSTAT=ACCEPTED;RSVP=TRUE;CN="Maraninc
 hi Delphine":http://neighborsforneighbors.org/profile/MaraninchiDelphi
 ne
END:VEVENT
END:VCALENDAR
