BEGIN:VCALENDAR
PRODID:NingEventWidget-v1
VERSION:2.0
METHOD:PUBLISH
BEGIN:VEVENT
UID:1171189:Event:88970
DTSTAMP:20260421T154652Z
SUMMARY:ZUMBA Party!!!!
DESCRIPTION:Happy Zumbaversary: Celebrating One Year of Health and C
 ommunity\n Join us in celebrating one year of fun Zumba classes at Sp
 ontaneous Celebrations!\n\nSaturday, March 17, 2012\n6-9 pm\nSpontaneo
 us Celebrations\n45 Danforth Street\nJamaica Plain, MA 02130\n\nTicket
 s:  $25  Early bird --until March 15th  \n$30 Last minute --March 
 16th & 17th\n\nHosted by Zumba Instructors\nJoya Lonsdale – joyafitn
 ess@gmail.com\nNancy Deleon – getfitwithnancy@gmail.com\n       
 \nSnacks, Fun and Dance!\nCome and dance your heart out at our Zumbave
 rsary party open to the public!  There will be 2 hours of Zumba and 
 1 hour free dance party and networking opportunity – get to know you
 r neighbors!\n(Sorry, no alcohol)\nDon’t forget to wear comfortable 
 shoes and clothing to shake and move!\n\n              \n \n\
 nFor more information visit http://neighborsforneighbors.org/events/zu
 mba-party
DTSTART:20120317T220000Z
DTEND:20120318T010000Z
CATEGORIES:zumba, party, dance
LOCATION:Spontaneous Celebrations
WEBSITE:http://www.spontaneouscelebrations.org
URL:http://www.spontaneouscelebrations.org
CONTACT:4014745618
ORGANIZER;CN="Joya Lonsdale":http://neighborsforneighbors.org/profile/
 JoyaLonsdale
ATTACH;FMTTYPE="image/jpeg":
ATTENDEE;ROLE=REQ-PARTICIPANT;PARTSTAT=ACCEPTED;RSVP=TRUE;CN="Joya Lon
 sdale":http://neighborsforneighbors.org/profile/JoyaLonsdale
END:VEVENT
END:VCALENDAR
